BEGIN:VCALENDAR
VERSION:2.0
PRODID:-//Reit- &amp; Fahrverein Vreden e.V. - ECPv6.0.4//NONSGML v1.0//EN
CALSCALE:GREGORIAN
METHOD:PUBLISH
X-ORIGINAL-URL:https://www.reitverein-vreden.de
X-WR-CALDESC:Events for Reit- &amp; Fahrverein Vreden e.V.
REFRESH-INTERVAL;VALUE=DURATION:PT1H
X-Robots-Tag:noindex
X-PUBLISHED-TTL:PT1H
BEGIN:VTIMEZONE
TZID:Europe/Berlin
BEGIN:DAYLIGHT
TZOFFSETFROM:+0100
TZOFFSETTO:+0200
TZNAME:CEST
DTSTART:20260329T010000
END:DAYLIGHT
BEGIN:STANDARD
TZOFFSETFROM:+0200
TZOFFSETTO:+0100
TZNAME:CET
DTSTART:20261025T010000
END:STANDARD
END:VTIMEZONE
BEGIN:VEVENT
DTSTART;TZID=Europe/Berlin:20261012T140000
DTEND;TZID=Europe/Berlin:20261015T200000
DTSTAMP:20260423T195305
CREATED:20260126T185812Z
LAST-MODIFIED:20260126T185812Z
UID:8172-1791813600-1792094400@www.reitverein-vreden.de
SUMMARY:Vorbereitung Oktober-Turnier 2026
DESCRIPTION:Arbeitseinsatz zur Vorbereitung des Oktober-Turnier 2026 \n  \nbeginn ab 14:00 Uhr
URL:https://www.reitverein-vreden.de/termin/vorbereitung-oktober-turnier-2026/
LOCATION:RV Vreden\, Dömern 69A\, Vreden\, NRW\, 48691\, Deutschland
ORGANIZER;CN="RV%20Vreden":MAILTO:info@reitverein-vreden.de
END:VEVENT
END:VCALENDAR